BEGIN:VCALENDAR
VERSION:2.0
PRODID:-//time.you/holidays//NONSGML v1.0//EN
BEGIN:VEVENT
UID:7fc99318-615e-414f-b7ca-f5408f146129
DTSTAMP:20260421T221059Z
DTSTART;VALUE=DATE:20260527
SUMMARY:Eid al-Adha (estimated) (Togo)
END:VEVENT
END:VCALENDAR