BEGIN:VCALENDAR
VERSION:2.0
PRODID:-//time.you/holidays//NONSGML v1.0//EN
BEGIN:VEVENT
UID:997cc637-88e3-46eb-bf6c-1284d007e53d
DTSTAMP:20260424T191642Z
DTSTART;VALUE=DATE:20260501
SUMMARY:Labor Day (Togo)
END:VEVENT
END:VCALENDAR