BEGIN:VCALENDAR
VERSION:2.0
PRODID:-//time.you/holidays//NONSGML v1.0//EN
BEGIN:VEVENT
UID:47798f95-a971-4a84-935d-c1746521c6ab
DTSTAMP:20260421T215123Z
DTSTART;VALUE=DATE:20260621
SUMMARY:Martyrs' Day (Togo)
END:VEVENT
END:VCALENDAR