BEGIN:VCALENDAR
VERSION:2.0
PRODID:-//time.you/holidays//NONSGML v1.0//EN
BEGIN:VEVENT
UID:f3edee38-19e4-42ad-bc63-6301c8bc9470
DTSTAMP:20260420T095501Z
DTSTART;VALUE=DATE:20260406
SUMMARY:Easter Monday (Tokelau)
END:VEVENT
END:VCALENDAR