BEGIN:VCALENDAR
VERSION:2.0
PRODID:-//time.you/holidays//NONSGML v1.0//EN
BEGIN:VEVENT
UID:5314e800-1f80-4c92-a127-23d0663b5ea1
DTSTAMP:20260421T221944Z
DTSTART;VALUE=DATE:20260101
SUMMARY:New Year's Day (Tokelau)
END:VEVENT
END:VCALENDAR