BEGIN:VCALENDAR
VERSION:2.0
PRODID:-//time.you/holidays//NONSGML v1.0//EN
BEGIN:VEVENT
UID:f4172586-2201-439f-95aa-e15edea669f8
DTSTAMP:20260421T223721Z
DTSTART;VALUE=DATE:20260903
SUMMARY:Tokehega Day (Tokelau)
END:VEVENT
END:VCALENDAR