BEGIN:VCALENDAR
VERSION:2.0
PRODID:-//time.you/holidays//NONSGML v1.0//EN
BEGIN:VEVENT
UID:508de45e-53be-413e-b7f9-9d34da7653ef
DTSTAMP:20260420T074943Z
DTSTART;VALUE=DATE:20261207
SUMMARY:Anniversary of the Coronation of HM King George Tupou I (observed) (Tonga)
END:VEVENT
END:VCALENDAR