BEGIN:VCALENDAR
VERSION:2.0
PRODID:-//time.you/holidays//NONSGML v1.0//EN
BEGIN:VEVENT
UID:27a4e32e-576b-4d4f-bfcf-af256dd1c343
DTSTAMP:20260422T112154Z
DTSTART;VALUE=DATE:20260425
SUMMARY:Anzac Day (Tonga)
END:VEVENT
END:VCALENDAR