BEGIN:VCALENDAR
VERSION:2.0
PRODID:-//time.you/holidays//NONSGML v1.0//EN
BEGIN:VEVENT
UID:f3df3728-14d7-44fc-8474-f29703266e38
DTSTAMP:20260421T091319Z
DTSTART;VALUE=DATE:20261102
SUMMARY:Constitution Day (observed) (Tonga)
END:VEVENT
END:VCALENDAR