BEGIN:VCALENDAR
VERSION:2.0
PRODID:-//time.you/holidays//NONSGML v1.0//EN
BEGIN:VEVENT
UID:7160dc0e-7251-44c9-8c36-37301639c3fa
DTSTAMP:20260421T123156Z
DTSTART;VALUE=DATE:20301104
SUMMARY:Constitution Day (Tonga)
END:VEVENT
END:VCALENDAR