BEGIN:VCALENDAR
VERSION:2.0
PRODID:-//time.you/holidays//NONSGML v1.0//EN
BEGIN:VEVENT
UID:8d1a68fd-3717-41bc-a8f9-99989640f484
DTSTAMP:20260421T224127Z
DTSTART;VALUE=DATE:20271227
SUMMARY:Boxing Day (observed) (Trinidad and Tobago)
END:VEVENT
END:VCALENDAR