BEGIN:VCALENDAR
VERSION:2.0
PRODID:-//time.you/holidays//NONSGML v1.0//EN
BEGIN:VEVENT
UID:ef85e43d-658b-476d-afa0-324543a5e05e
DTSTAMP:20260420T021746Z
DTSTART;VALUE=DATE:20261226
SUMMARY:Boxing Day (Trinidad and Tobago)
END:VEVENT
END:VCALENDAR