BEGIN:VCALENDAR
VERSION:2.0
PRODID:-//time.you/holidays//NONSGML v1.0//EN
BEGIN:VEVENT
UID:d9fa2bc4-a45c-4cda-912a-6c7c605b2bc0
DTSTAMP:20260420T071810Z
DTSTART;VALUE=DATE:20261225
SUMMARY:Christmas Day (Trinidad and Tobago)
END:VEVENT
END:VCALENDAR