BEGIN:VCALENDAR
VERSION:2.0
PRODID:-//time.you/holidays//NONSGML v1.0//EN
BEGIN:VEVENT
UID:def5e2f1-2d1c-4a4d-897c-35ec5cb07b55
DTSTAMP:20260424T164553Z
DTSTART;VALUE=DATE:20240530
SUMMARY:Corpus Christi; Indian Arrival Day (Trinidad and Tobago)
END:VEVENT
END:VCALENDAR