BEGIN:VCALENDAR
VERSION:2.0
PRODID:-//time.you/holidays//NONSGML v1.0//EN
BEGIN:VEVENT
UID:804d8a20-981c-4cf2-b37e-bfedaa56ea34
DTSTAMP:20260420T141134Z
DTSTART;VALUE=DATE:20240531
SUMMARY:Corpus Christi (observed); Indian Arrival Day (observed) (Trinidad and Tobago)
END:VEVENT
END:VCALENDAR