BEGIN:VCALENDAR
VERSION:2.0
PRODID:-//time.you/holidays//NONSGML v1.0//EN
BEGIN:VEVENT
UID:84b02d8f-d2bf-4350-81f3-f2265c47d664
DTSTAMP:20260420T141152Z
DTSTART;VALUE=DATE:20250620
SUMMARY:Corpus Christi (observed); Labor Day (observed) (Trinidad and Tobago)
END:VEVENT
END:VCALENDAR