BEGIN:VCALENDAR
VERSION:2.0
PRODID:-//time.you/holidays//NONSGML v1.0//EN
BEGIN:VEVENT
UID:b497f992-4f0f-4626-bb53-8ccebd5c0bfa
DTSTAMP:20260420T012523Z
DTSTART;VALUE=DATE:20260604
SUMMARY:Corpus Christi (Trinidad and Tobago)
END:VEVENT
END:VCALENDAR