BEGIN:VCALENDAR
VERSION:2.0
PRODID:-//time.you/holidays//NONSGML v1.0//EN
BEGIN:VEVENT
UID:3626dd6d-e0d1-43cf-953b-c57c7613b672
DTSTAMP:20260421T205337Z
DTSTART;VALUE=DATE:20260406
SUMMARY:Easter Monday (Trinidad and Tobago)
END:VEVENT
END:VCALENDAR