BEGIN:VCALENDAR
VERSION:2.0
PRODID:-//time.you/holidays//NONSGML v1.0//EN
BEGIN:VEVENT
UID:ea636ef4-3f05-4fb9-ab4f-d1a97158d6a4
DTSTAMP:20260419T233648Z
DTSTART;VALUE=DATE:20260403
SUMMARY:Good Friday (Trinidad and Tobago)
END:VEVENT
END:VCALENDAR