BEGIN:VCALENDAR
VERSION:2.0
PRODID:-//time.you/holidays//NONSGML v1.0//EN
BEGIN:VEVENT
UID:dbc86fc2-23d2-4922-9f50-3190bce7d3c4
DTSTAMP:20260421T144250Z
DTSTART;VALUE=DATE:20260831
SUMMARY:Independence Day (Trinidad and Tobago)
END:VEVENT
END:VCALENDAR