BEGIN:VCALENDAR
VERSION:2.0
PRODID:-//time.you/holidays//NONSGML v1.0//EN
BEGIN:VEVENT
UID:5f238369-1f11-43b7-8594-7d96c4a41fb6
DTSTAMP:20260419T234957Z
DTSTART;VALUE=DATE:20260101
SUMMARY:New Year's Day (Trinidad and Tobago)
END:VEVENT
END:VCALENDAR