BEGIN:VCALENDAR
VERSION:2.0
PRODID:-//time.you/holidays//NONSGML v1.0//EN
BEGIN:VEVENT
UID:d846a0d2-65fc-4fd1-9301-2a62a5d12aa0
DTSTAMP:20260422T020104Z
DTSTART;VALUE=DATE:20260526
SUMMARY:Arafat Day (estimated) (Tunisia)
END:VEVENT
END:VCALENDAR