BEGIN:VCALENDAR
VERSION:2.0
PRODID:-//time.you/holidays//NONSGML v1.0//EN
BEGIN:VEVENT
UID:ae1eeebc-cf39-4d2d-a5ca-cacd983b9a46
DTSTAMP:20260421T185341Z
DTSTART;VALUE=DATE:20260527
SUMMARY:Eid al-Adha (estimated) (Tunisia)
END:VEVENT
END:VCALENDAR