BEGIN:VCALENDAR
VERSION:2.0
PRODID:-//time.you/holidays//NONSGML v1.0//EN
BEGIN:VEVENT
UID:19c6e66b-0bbc-4f43-a466-02c8c75db792
DTSTAMP:20260419T180652Z
DTSTART;VALUE=DATE:20261015
SUMMARY:Evacuation Day (Tunisia)
END:VEVENT
END:VCALENDAR