BEGIN:VCALENDAR
VERSION:2.0
PRODID:-//time.you/holidays//NONSGML v1.0//EN
BEGIN:VEVENT
UID:4e0c70a1-71d3-4278-885d-e603d182fac7
DTSTAMP:20260420T175233Z
DTSTART;VALUE=DATE:20260501
SUMMARY:Labor Day (Tunisia)
END:VEVENT
END:VCALENDAR