BEGIN:VCALENDAR
VERSION:2.0
PRODID:-//time.you/holidays//NONSGML v1.0//EN
BEGIN:VEVENT
UID:180844e7-1323-445d-be0b-fe64ebcd566c
DTSTAMP:20260422T020113Z
DTSTART;VALUE=DATE:20260101
SUMMARY:New Year's Day (Tunisia)
END:VEVENT
END:VCALENDAR