BEGIN:VCALENDAR
VERSION:2.0
PRODID:-//time.you/holidays//NONSGML v1.0//EN
BEGIN:VEVENT
UID:5df983d3-a8d9-4bb3-9836-d341d12868b3
DTSTAMP:20260424T143150Z
DTSTART;VALUE=DATE:20260527
SUMMARY:Eid al-Adha (Türkiye)
END:VEVENT
END:VCALENDAR