BEGIN:VCALENDAR
VERSION:2.0
PRODID:-//time.you/holidays//NONSGML v1.0//EN
BEGIN:VEVENT
UID:32c9211a-a20e-42a3-8a44-d78320f7ef2c
DTSTAMP:20260420T113238Z
DTSTART;VALUE=DATE:20260101
SUMMARY:New Year's Day (Türkiye)
END:VEVENT
END:VCALENDAR