BEGIN:VCALENDAR
VERSION:2.0
PRODID:-//time.you/holidays//NONSGML v1.0//EN
BEGIN:VEVENT
UID:71f775c5-5d2c-49f7-91bc-5b12acadf36b
DTSTAMP:20260421T223933Z
DTSTART;VALUE=DATE:20271213
SUMMARY:International Neutrality Day (observed) (Turkmenistan)
END:VEVENT
END:VCALENDAR