BEGIN:VCALENDAR
VERSION:2.0
PRODID:-//time.you/holidays//NONSGML v1.0//EN
BEGIN:VEVENT
UID:796af5e0-3f17-4d17-8b5d-1d0fa1905a9d
DTSTAMP:20260420T082346Z
DTSTART;VALUE=DATE:20261212
SUMMARY:International Neutrality Day (Turkmenistan)
END:VEVENT
END:VCALENDAR