BEGIN:VCALENDAR
VERSION:2.0
PRODID:-//time.you/holidays//NONSGML v1.0//EN
BEGIN:VEVENT
UID:6564332f-d6bf-4138-8118-8c2053d52676
DTSTAMP:20260420T012523Z
DTSTART;VALUE=DATE:20260309
SUMMARY:International Women's Day (observed) (Turkmenistan)
END:VEVENT
END:VCALENDAR