BEGIN:VCALENDAR
VERSION:2.0
PRODID:-//time.you/holidays//NONSGML v1.0//EN
BEGIN:VEVENT
UID:4763f7d9-1ba4-4ee3-897f-e7d64b4b466f
DTSTAMP:20260421T205735Z
DTSTART;VALUE=DATE:20340102
SUMMARY:New Year's Day (observed) (Turkmenistan)
END:VEVENT
END:VCALENDAR