BEGIN:VCALENDAR
VERSION:2.0
PRODID:-//time.you/holidays//NONSGML v1.0//EN
BEGIN:VEVENT
UID:faabf47c-00d6-418c-ac46-6b6d1467f29b
DTSTAMP:20260421T223630Z
DTSTART;VALUE=DATE:20261226
SUMMARY:Boxing Day (Turks and Caicos Islands)
END:VEVENT
END:VCALENDAR