BEGIN:VCALENDAR
VERSION:2.0
PRODID:-//time.you/holidays//NONSGML v1.0//EN
BEGIN:VEVENT
UID:331b24d9-52a7-423d-a73b-3fbb340a31df
DTSTAMP:20260421T194908Z
DTSTART;VALUE=DATE:20271227
SUMMARY:Christmas Day (observed) (Turks and Caicos Islands)
END:VEVENT
END:VCALENDAR