BEGIN:VCALENDAR
VERSION:2.0
PRODID:-//time.you/holidays//NONSGML v1.0//EN
BEGIN:VEVENT
UID:d0f04bcb-7f6f-43cf-bc6d-aa18d47a56f0
DTSTAMP:20260422T073108Z
DTSTART;VALUE=DATE:20261225
SUMMARY:Christmas Day (Turks and Caicos Islands)
END:VEVENT
END:VCALENDAR