BEGIN:VCALENDAR
VERSION:2.0
PRODID:-//time.you/holidays//NONSGML v1.0//EN
BEGIN:VEVENT
UID:f5d9951c-8ccd-452d-adab-0b261d2e9d35
DTSTAMP:20260424T053252Z
DTSTART;VALUE=DATE:20260406
SUMMARY:Easter Monday (Turks and Caicos Islands)
END:VEVENT
END:VCALENDAR