BEGIN:VCALENDAR
VERSION:2.0
PRODID:-//time.you/holidays//NONSGML v1.0//EN
BEGIN:VEVENT
UID:cba4f4b0-603c-4ede-a4e0-47539fac8749
DTSTAMP:20260420T082231Z
DTSTART;VALUE=DATE:20260525
SUMMARY:JAGS McCartney Day (Turks and Caicos Islands)
END:VEVENT
END:VCALENDAR