BEGIN:VCALENDAR
VERSION:2.0
PRODID:-//time.you/holidays//NONSGML v1.0//EN
BEGIN:VEVENT
UID:76e8a430-f9c5-4197-823f-34c0eb736cef
DTSTAMP:20260420T184357Z
DTSTART;VALUE=DATE:20261226
SUMMARY:Boxing Day (Tuvalu)
END:VEVENT
END:VCALENDAR