BEGIN:VCALENDAR
VERSION:2.0
PRODID:-//time.you/holidays//NONSGML v1.0//EN
BEGIN:VEVENT
UID:3c60b736-b74c-4d65-931e-3fe9c7e6678a
DTSTAMP:20260422T063706Z
DTSTART;VALUE=DATE:20271227
SUMMARY:Christmas Day (observed) (Tuvalu)
END:VEVENT
END:VCALENDAR