BEGIN:VCALENDAR
VERSION:2.0
PRODID:-//time.you/holidays//NONSGML v1.0//EN
BEGIN:VEVENT
UID:fbc3280c-d923-4665-a65d-ac80ae65095f
DTSTAMP:20260420T002127Z
DTSTART;VALUE=DATE:20261225
SUMMARY:Christmas Day (Tuvalu)
END:VEVENT
END:VCALENDAR