BEGIN:VCALENDAR
VERSION:2.0
PRODID:-//time.you/holidays//NONSGML v1.0//EN
BEGIN:VEVENT
UID:adbf1c7f-5fd1-44e5-9fb6-232bd4003de1
DTSTAMP:20260421T071338Z
DTSTART;VALUE=DATE:20260406
SUMMARY:Easter Monday (Tuvalu)
END:VEVENT
END:VCALENDAR