BEGIN:VCALENDAR
VERSION:2.0
PRODID:-//time.you/holidays//NONSGML v1.0//EN
BEGIN:VEVENT
UID:ae3ba16c-3c3d-4060-a424-154ca1dbca38
DTSTAMP:20260420T100330Z
DTSTART;VALUE=DATE:20260613
SUMMARY:King's Birthday (Tuvalu)
END:VEVENT
END:VCALENDAR