BEGIN:VCALENDAR
VERSION:2.0
PRODID:-//time.you/holidays//NONSGML v1.0//EN
BEGIN:VEVENT
UID:0cc1c156-1b64-4acd-8a54-5507538cb52d
DTSTAMP:20260422T005625Z
DTSTART;VALUE=DATE:20260101
SUMMARY:New Year's Day (Tuvalu)
END:VEVENT
END:VCALENDAR