BEGIN:VCALENDAR
VERSION:2.0
PRODID:-//time.you/holidays//NONSGML v1.0//EN
BEGIN:VEVENT
UID:c640f7c8-ada7-48ac-b7e2-85472516db2b
DTSTAMP:20260424T000420Z
DTSTART;VALUE=DATE:20261001
SUMMARY:Tuvalu Day (Tuvalu)
END:VEVENT
END:VCALENDAR