BEGIN:VCALENDAR
VERSION:2.0
PRODID:-//time.you/holidays//NONSGML v1.0//EN
BEGIN:VEVENT
UID:aa19b29a-bc1f-43ed-8ee8-e15f40d50ba3
DTSTAMP:20260421T223716Z
DTSTART;VALUE=DATE:20261225
SUMMARY:Christmas Day (U.S. Virgin Islands)
END:VEVENT
END:VCALENDAR