BEGIN:VCALENDAR
VERSION:2.0
PRODID:-//time.you/holidays//NONSGML v1.0//EN
BEGIN:VEVENT
UID:6810df1a-8629-41a4-ae91-482592a8d704
DTSTAMP:20260420T090359Z
DTSTART;VALUE=DATE:20260703
SUMMARY:Emancipation Day; Independence Day (observed) (U.S. Virgin Islands)
END:VEVENT
END:VCALENDAR