BEGIN:VCALENDAR
VERSION:2.0
PRODID:-//time.you/holidays//NONSGML v1.0//EN
BEGIN:VEVENT
UID:50241f9e-dd6d-4e8e-a3ba-151c52cccaf0
DTSTAMP:20260420T125707Z
DTSTART;VALUE=DATE:20260403
SUMMARY:Good Friday (U.S. Virgin Islands)
END:VEVENT
END:VCALENDAR