BEGIN:VCALENDAR
VERSION:2.0
PRODID:-//time.you/holidays//NONSGML v1.0//EN
BEGIN:VEVENT
UID:7567292d-7df4-4a7d-9b41-925e8128e134
DTSTAMP:20260422T065723Z
DTSTART;VALUE=DATE:20260402
SUMMARY:Holy Thursday (U.S. Virgin Islands)
END:VEVENT
END:VCALENDAR