BEGIN:VCALENDAR
VERSION:2.0
PRODID:-//time.you/holidays//NONSGML v1.0//EN
BEGIN:VEVENT
UID:8555a9ff-9db9-4f28-8c57-f0bc7178f762
DTSTAMP:20260419T235516Z
DTSTART;VALUE=DATE:20260101
SUMMARY:New Year's Day (U.S. Virgin Islands)
END:VEVENT
END:VCALENDAR