BEGIN:VCALENDAR
VERSION:2.0
PRODID:-//time.you/holidays//NONSGML v1.0//EN
BEGIN:VEVENT
UID:6391ddcc-ca36-4b13-bcc3-a893940949a1
DTSTAMP:20260422T045651Z
DTSTART;VALUE=DATE:20260216
SUMMARY:Archbishop Janani Luwum Day (Uganda)
END:VEVENT
END:VCALENDAR